BEGIN:VCALENDAR
VERSION:2.0
CALSCALE:GREGORIAN
PRODID:adamgibbons/ics
METHOD:PUBLISH
X-PUBLISHED-TTL:PT1H
BEGIN:VEVENT
UID:462@tucsontimeline.info
SUMMARY:Barefoot On Bumblebees\, CU Soon\, Sean Whalen and the Benson HIghw
	ay Band
DTSTAMP:20260420T001621Z
DTSTART:20251207T010000Z
DTEND:20251207T060000Z
DESCRIPTION:Celebrating the ten year anniversary of Barefoot On Bumblees An
	t For Abraham LP!\n\nFood by Rocky's Frybread!\n\n$5 BYOB
URL:https://tucsontimeline.info/event/barefoot-on-bumblebees-cu-soon-sean-w
	halen-and-the-benson-highway-band
LOCATION:3828 E. 37th St.\, Tucson 85713 - 3828 E. 37th St. Tucson
STATUS:CONFIRMED
CATEGORIES:
X-ALT-DESC;FMTTYPE=text/html:<p>Celebrating the ten year anniversary of Bar
	efoot On Bumblees Ant For Abraham LP!</p><p>Food by Rocky's Frybread!</p><
	p>$5 BYOB</p>
END:VEVENT
END:VCALENDAR
